BEGIN:VCALENDAR
VERSION:2.0
PRODID:-//IDCCA - ECPv6.15.20//NONSGML v1.0//EN
CALSCALE:GREGORIAN
METHOD:PUBLISH
X-ORIGINAL-URL:https://idcca.org
X-WR-CALDESC:Events for IDCCA
REFRESH-INTERVAL;VALUE=DURATION:PT1H
X-Robots-Tag:noindex
X-PUBLISHED-TTL:PT1H
BEGIN:VTIMEZONE
TZID:America/Chicago
BEGIN:DAYLIGHT
TZOFFSETFROM:-0600
TZOFFSETTO:-0500
TZNAME:CDT
DTSTART:20240310T080000
END:DAYLIGHT
BEGIN:STANDARD
TZOFFSETFROM:-0500
TZOFFSETTO:-0600
TZNAME:CST
DTSTART:20241103T070000
END:STANDARD
BEGIN:DAYLIGHT
TZOFFSETFROM:-0600
TZOFFSETTO:-0500
TZNAME:CDT
DTSTART:20250309T080000
END:DAYLIGHT
BEGIN:STANDARD
TZOFFSETFROM:-0500
TZOFFSETTO:-0600
TZNAME:CST
DTSTART:20251102T070000
END:STANDARD
BEGIN:DAYLIGHT
TZOFFSETFROM:-0600
TZOFFSETTO:-0500
TZNAME:CDT
DTSTART:20260308T080000
END:DAYLIGHT
BEGIN:STANDARD
TZOFFSETFROM:-0500
TZOFFSETTO:-0600
TZNAME:CST
DTSTART:20261101T070000
END:STANDARD
BEGIN:DAYLIGHT
TZOFFSETFROM:-0600
TZOFFSETTO:-0500
TZNAME:CDT
DTSTART:20270314T080000
END:DAYLIGHT
BEGIN:STANDARD
TZOFFSETFROM:-0500
TZOFFSETTO:-0600
TZNAME:CST
DTSTART:20271107T070000
END:STANDARD
END:VTIMEZONE
BEGIN:VEVENT
DTSTART;TZID=America/Chicago:20260222T180000
DTEND;TZID=America/Chicago:20260222T200000
DTSTAMP:20260424T131342
CREATED:20251217T203427Z
LAST-MODIFIED:20251217T203427Z
UID:10012696-1771783200-1771790400@idcca.org
SUMMARY:Democratic Party of DuPage County Annual Gala
DESCRIPTION:You are invited to the Democratic Party of DuPage County Annual Gala fundraiser on Sunday\, February 22 at Drury Lane. \nRSVP online at https://secure.actblue.com/donate/dpdcgala2026
URL:https://idcca.org/event/democratic-party-of-dupage-county-annual-gala-2/
LOCATION:Drury Lane Banquets\, 100 Drury Lane\, Oakbrook Terrace\, IL\, 60181\, United States
CATEGORIES:Fundraiser
GEO:41.8595594;-87.9525588
X-APPLE-STRUCTURED-LOCATION;VALUE=URI;X-ADDRESS=Drury Lane Banquets 100 Drury Lane Oakbrook Terrace IL 60181 United States;X-APPLE-RADIUS=500;X-TITLE=100 Drury Lane:geo:-87.9525588,41.8595594
END:VEVENT
BEGIN:VEVENT
DTSTART;TZID=America/Chicago:20260221T120000
DTEND;TZID=America/Chicago:20260221T160000
DTSTAMP:20260424T131342
CREATED:20260211T213706Z
LAST-MODIFIED:20260211T213706Z
UID:10012727-1771675200-1771689600@idcca.org
SUMMARY:McLean County Democrats Mardi Gras Mambo
DESCRIPTION:RSVP online at https://secure.actblue.com/donate/mcdemsmardigras2026
URL:https://idcca.org/event/mclean-county-democrats-mardi-gras-mambo-2/
LOCATION:McLean County Democratic Headquarters\, 422 N. Main St.\, Bloomington\, IL\, 61701\, United States
CATEGORIES:Fundraiser
END:VEVENT
BEGIN:VEVENT
DTSTART;TZID=America/Chicago:20260219T173000
DTEND;TZID=America/Chicago:20260219T203000
DTSTAMP:20260424T131342
CREATED:20260122T194853Z
LAST-MODIFIED:20260122T194853Z
UID:10012708-1771522200-1771533000@idcca.org
SUMMARY:5th Annual Winnebago County Democrats Pasta Dinner
DESCRIPTION:You are invited to join the \nWinnebago County Democratic Party \nfor their 5th Annual Pasta Dinner \nThursday\, February 19\, 2026 \nCocktail Hour – 5:30pm\nDinner – 6:30pm \nVerdi Club\n782 N Madison St.\nRockford\, IL 61107 \nRSVP online at winnebagodemocraticparty@gmail.com
URL:https://idcca.org/event/5th-annual-winnebago-county-democrats-pasta-dinner/
LOCATION:Verdi Club\, 782 N Madison St.\, Rockford\, IL\, 61107\, United States
CATEGORIES:Fundraiser
END:VEVENT
BEGIN:VEVENT
DTSTART;TZID=America/Chicago:20260219T170000
DTEND;TZID=America/Chicago:20260219T190000
DTSTAMP:20260424T131342
CREATED:20251217T185649Z
LAST-MODIFIED:20251217T185649Z
UID:10012694-1771520400-1771527600@idcca.org
SUMMARY:Coles County Democrats 13th Annual Carnivale
DESCRIPTION:You are invited to join the \nColes County Democratic Party \nfor the 13th Annual Carnivale \nThursday\, February 19\, 2025 \n5:00pm – 7:00pm \nMattoon American Legion Post 88\n1903 Maple Ave\, Mattoon\, IL 61938 \nRSVP online at secure.actblue.com/donate/dems-carnivale-2026 or colesdems@gmail.com
URL:https://idcca.org/event/coles-county-democrats-13th-annual-carnivale/
LOCATION:Mattoon American Legion\, 1903 Maple Ave\, Mattoon\, IL\, 61938\, United States
CATEGORIES:Fundraiser
GEO:39.4731879;-88.3783099
X-APPLE-STRUCTURED-LOCATION;VALUE=URI;X-ADDRESS=Mattoon American Legion 1903 Maple Ave Mattoon IL 61938 United States;X-APPLE-RADIUS=500;X-TITLE=1903 Maple Ave:geo:-88.3783099,39.4731879
END:VEVENT
BEGIN:VEVENT
DTSTART;TZID=America/Chicago:20260216T173000
DTEND;TZID=America/Chicago:20260216T200000
DTSTAMP:20260424T131342
CREATED:20251217T190213Z
LAST-MODIFIED:20251217T190213Z
UID:10012695-1771263000-1771272000@idcca.org
SUMMARY:Peoria County Democrats 2026 President's Day Dinner
DESCRIPTION:You’re Invited! An Evening of Thanks to Senator Dick Durbin \nPeoria County Democrats 2026 Presidents Day Dinner \nMonday\, February 16\, 2026 \n5:30 pm Cocktail Hour | 6:30 pm Dinner & Program \nPeoria Civic Center Ballroom \nSponsorships and Tickets: \nPremier Sponsor: $10\,000 – Two tables of 10 and event signage \nGold Sponsor: $3\,000 – Table of 10 and event signage \nSilver Sponsor: $1\,500 – Table of 10 and logo displayed at event \nTable Sponsor: $750 – Table of 10 \nDisplay Logo: $500 – Logo displayed at event \nIndividual Tickets: $50/each \n  \nMake checks payable and mail to Peoria County Democrats by 2/1/26: \nPeoria County Democrats \nPO Box 258 \nPeoria\, IL 61650 \nIndividual tickets can also be purchased online at www.peoriademocrats.org. \nQuestions? Email info@peoriademocrats.org or call 309-676-0380.
URL:https://idcca.org/event/peoria-county-democrats-2026-presidents-day-dinner/
LOCATION:Peoria Civic Center\, 201 SW Jefferson Ave\, Peoria\, IL\, United States
CATEGORIES:Fundraiser
END:VEVENT
BEGIN:VEVENT
DTSTART;TZID=America/Chicago:20260215T163000
DTEND;TZID=America/Chicago:20260215T183000
DTSTAMP:20260424T131342
CREATED:20260122T201403Z
LAST-MODIFIED:20260122T201403Z
UID:10012710-1771173000-1771180200@idcca.org
SUMMARY:McDonough County Democrats President's Day Dinner
DESCRIPTION:You are invited to join the \nMcDonough County Democratic Party \nfor their President’s Day Dinner \nSunday\, February 15\, 2026 \n4:30pm – 6:30pm \nMacomb Arts Center\n25 West Side Square\, Macomb \nRSVP online at mcdonoughcountydemocrats@gmail.com
URL:https://idcca.org/event/mcdonough-county-democrats-presidents-day-dinner/
LOCATION:Macomb Arts Center\, 25 E Side Square\, Macomb\, IL\, 61455\, United States
CATEGORIES:Fundraiser
END:VEVENT
BEGIN:VEVENT
DTSTART;TZID=America/Chicago:20260213T140000
DTEND;TZID=America/Chicago:20260213T160000
DTSTAMP:20260424T131342
CREATED:20260128T155854Z
LAST-MODIFIED:20260128T155854Z
UID:10012713-1770991200-1770998400@idcca.org
SUMMARY:Join Speaker Welch & Rep. Andrade
DESCRIPTION:Join Speaker Welch & Rep. Andrade \nFriday\, February 13 | 2 – 4 PM \nMirabella Italian Cuisine & Bar \n3454 W. Addison St. Chicago IL 60618 \nTickets: $150 \nSponsorships: Fight for 40 Sponsor – $500 | Power for 40 Sponsor – $2\,000 | Labor Sponsor – $5\,000 \nSend RSVPs to info@andrade4staterep.com \nMake checks payable to: \nFriends of Jaime M Andrade\, Jr. \nP.O. Box 18380 \nChicago\, IL 60618
URL:https://idcca.org/event/join-speaker-welch-rep-andrade/
LOCATION:Mirabella Italian Cuisine & Bar\, 3454 W Addison\, Chicago\, IL\, United States
CATEGORIES:Fundraiser
END:VEVENT
BEGIN:VEVENT
DTSTART;TZID=America/Chicago:20260211T173000
DTEND;TZID=America/Chicago:20260211T193000
DTSTAMP:20260424T131342
CREATED:20251212T204640Z
LAST-MODIFIED:20251212T204640Z
UID:10012693-1770831000-1770838200@idcca.org
SUMMARY:Rock Island County Democrats Black Caucus Kickoff Event
DESCRIPTION:You are invited to join the newly restarted \nBlack Caucus of the Rock Island County Democratic Party \nWednesday\, February 11\, 2025 \n5:30pm – 7:30pm \nRooster’s Bar & Grill\n2130 3rd Ave\, Rock Island \nRSVP online at info@ricountydemocrats.org
URL:https://idcca.org/event/rock-island-county-democrats-black-caucus-kickoff-event/
LOCATION:Rooster’s Bar & Grill\, 2130 3rd Ave\, Rock Island\, IL\, United States
CATEGORIES:Fundraiser
END:VEVENT
BEGIN:VEVENT
DTSTART;TZID=America/Chicago:20260211T173000
DTEND;TZID=America/Chicago:20260211T190000
DTSTAMP:20260424T131342
CREATED:20260128T155448Z
LAST-MODIFIED:20260128T155448Z
UID:10012712-1770831000-1770836400@idcca.org
SUMMARY:Fundraiser in Support of Reps. Cassidy\, Guzzardi\, & Olickal
DESCRIPTION:Fundraiser in Support of Reps. Cassidy\, Guzzardi\, & Olickal \nWednesday\, February 11 | 5:30 – 7 PM \nJoy District \n112 W. Hubbard Chicago\, IL \nTickets: Guest – $250 \nSponsorships: Sponsor – $500 | Host – $1\,000 |Chair – $2\,500 | Patron – $5\,000
URL:https://idcca.org/event/fundraiser-in-support-of-reps-cassidy-guzzardi-olickal/
LOCATION:Joy District\, 112 W. Hubbard\, Chicago\, IL\, 60654\, United States
CATEGORIES:Fundraiser
GEO:41.8902564;-87.6317576
X-APPLE-STRUCTURED-LOCATION;VALUE=URI;X-ADDRESS=Joy District 112 W. Hubbard Chicago IL 60654 United States;X-APPLE-RADIUS=500;X-TITLE=112 W. Hubbard:geo:-87.6317576,41.8902564
END:VEVENT
BEGIN:VEVENT
DTSTART;TZID=America/Chicago:20260210T173000
DTEND;TZID=America/Chicago:20260210T190000
DTSTAMP:20260424T131342
CREATED:20260128T155250Z
LAST-MODIFIED:20260128T155250Z
UID:10012711-1770744600-1770750000@idcca.org
SUMMARY:Reception Honoring Rep. Gordon Booth
DESCRIPTION:Reception Honoring Rep. Gordon Booth \nTuesday\, February 10 | 5:30 – 7 PM \nDearly Beloved Cocktail Bar \n900 N. Franklin St. Chicago \nTickets: $250 \nSponsorships: Co-host – $1\,000 | Host – $2\,500 | Co-Chair – $5\,000 | Chair – $10\,000 \nSend RSVPs to: KJD@langenfeldassociates.com
URL:https://idcca.org/event/reception-honoring-rep-gordon-booth/
LOCATION:Dearly Beloved Cocktail Bar\, 900 N. Franklin St.\, Chicago\, IL\, United States
CATEGORIES:Fundraiser
END:VEVENT
BEGIN:VEVENT
DTSTART;TZID=America/Chicago:20260206T180000
DTEND;TZID=America/Chicago:20260206T210000
DTSTAMP:20260424T131342
CREATED:20260114T171101Z
LAST-MODIFIED:20260114T171101Z
UID:10012704-1770400800-1770411600@idcca.org
SUMMARY:Harlem Renaissance 55th Birthday Fundraiser for Emanuel "Chris" Welch
DESCRIPTION:RSVP online at https://secure.actblue.com/donate/happybirthdayspeaker
URL:https://idcca.org/event/harlem-renaissance-55th-birthday-fundraiser-for-emanuel-chris-welch/
LOCATION:Chicago Athletic Association\, 12 S Michigan Ave\, Chicago\, IL\, United States
CATEGORIES:Fundraiser
END:VEVENT
BEGIN:VEVENT
DTSTART;TZID=America/Chicago:20260202T173000
DTEND;TZID=America/Chicago:20260202T193000
DTSTAMP:20260424T131342
CREATED:20260114T171448Z
LAST-MODIFIED:20260114T171448Z
UID:10012705-1770053400-1770060600@idcca.org
SUMMARY:Fundraising Reception with Speaker Welch & Rep. Andrade
DESCRIPTION:Join Speaker Welch & Rep. Andrade \nMonday\, February 2 | 5:30 – 7:30 PM \nMirabella Italian Cuisine & Bar \n3454 W. Addison St. Chicago IL 60618 \nTickets: $150 \nSponsorships: Fight for 40 Sponsor – $500 | Power for 40 Sponsor – $2\,000 | Labor Sponsor – $5\,000 \nSend RSVPs to info@andrade4staterep.com \nMake checks payable to: \nFriends of Jaime M Andrade\, Jr. \nP.O. Box 18380 \nChicago\, IL 60618
URL:https://idcca.org/event/fundraising-reception-with-speaker-welch-rep-andrade/
LOCATION:Mirabella Italian Cuisine & Bar\, 3454 W Addison\, Chicago\, IL\, United States
CATEGORIES:Fundraiser
END:VEVENT
BEGIN:VEVENT
DTSTART;TZID=America/Chicago:20260127T173000
DTEND;TZID=America/Chicago:20260127T193000
DTSTAMP:20260424T131342
CREATED:20260114T171708Z
LAST-MODIFIED:20260114T171708Z
UID:10012706-1769535000-1769542200@idcca.org
SUMMARY:Evening Reception in support of Toni Preckwinkle
DESCRIPTION:RSVP online at https://secure.ngpvan.com/2ZlQTM3pFkigeQ5cNyICbw2
URL:https://idcca.org/event/evening-reception-in-support-of-toni-preckwinkle-2/
LOCATION:Salon 61\, 61 W Hubbard\, Chicago\, IL\, United States
CATEGORIES:Fundraiser
END:VEVENT
BEGIN:VEVENT
DTSTART;TZID=America/Chicago:20260126T183000
DTEND;TZID=America/Chicago:20260126T200000
DTSTAMP:20260424T131342
CREATED:20251117T185722Z
LAST-MODIFIED:20251117T185722Z
UID:10012669-1769452200-1769457600@idcca.org
SUMMARY:Fundraiser in Support of Reps. Canty and Didech
DESCRIPTION:Fundraiser in Support of Reps. Canty and Didech \nMonday\, January 26 | 6:30 – 8 PM \nSal and Tony’s Italian Restaurant \n48 Raupp Blvd Buffalo Grove\, IL 60089 \nTickets: Individual – $100 | Families – $150 \nSponsorships: $250 | $500 | $1\,000 | $2\,500 | $6\,000
URL:https://idcca.org/event/fundraiser-in-support-of-reps-canty-and-didech/
LOCATION:Sal and Tony’s Italian Restaurant\, 48 Raupp Blvd\, Buffalo Grove\, IL\, United States
CATEGORIES:Fundraiser
END:VEVENT
BEGIN:VEVENT
DTSTART;TZID=America/Chicago:20260124T173000
DTEND;TZID=America/Chicago:20260124T193000
DTSTAMP:20260424T131342
CREATED:20251117T184731Z
LAST-MODIFIED:20251117T184731Z
UID:10012667-1769275800-1769283000@idcca.org
SUMMARY:Putnam County Democrats Christmas Party
DESCRIPTION:You are invited to join the \nPutnam County Democratic Party \nfor their Christmas Party \nSaturday\, January 24\, 2026 \n5:30pm – 7:30pm \nSpring Valley Boat Club\n13862 IL Hwy 89\, Granville \nRSVP at 815-878-7415
URL:https://idcca.org/event/putnam-county-democrats-christmas-party/
LOCATION:Spring Valley Boat Club\, 13862 IL - 89\, Granville\, IL\, 61326\, United States
CATEGORIES:Fundraiser
GEO:41.2593402;-89.2021001
X-APPLE-STRUCTURED-LOCATION;VALUE=URI;X-ADDRESS=Spring Valley Boat Club 13862 IL - 89 Granville IL 61326 United States;X-APPLE-RADIUS=500;X-TITLE=13862 IL - 89:geo:-89.2021001,41.2593402
END:VEVENT
BEGIN:VEVENT
DTSTART;TZID=America/Chicago:20260114T173000
DTEND;TZID=America/Chicago:20260114T193000
DTSTAMP:20260424T131342
CREATED:20260105T182302Z
LAST-MODIFIED:20260105T182302Z
UID:10012698-1768411800-1768419000@idcca.org
SUMMARY:Macoupin County Democrats Winter Party
DESCRIPTION:You are invited to join the \nMacoupin County Democratic Party \nfor a Winter Party \nWednesday\, January 14\, 2026 \n5:30pm – 7:30pm \nMississippi Culture\n201 S Union St.\, Staunton \nFree to attend \nRSVP online at macoupincountydems@gmail.com
URL:https://idcca.org/event/macoupin-county-democrats-winter-party/
LOCATION:Mississippi Culture\, 201 S Union St.\, Staunton\, IL\, United States
CATEGORIES:Fundraiser
END:VEVENT
BEGIN:VEVENT
DTSTART;TZID=America/Chicago:20260111T160000
DTEND;TZID=America/Chicago:20260111T180000
DTSTAMP:20260424T131342
CREATED:20260107T191837Z
LAST-MODIFIED:20260107T191837Z
UID:10012701-1768147200-1768154400@idcca.org
SUMMARY:New Trier Dems 2026 Kickoff Party
DESCRIPTION:New Trier Dems 2026 Kickoff Party \nWhen: Sunday\, January 11\, 2026 from 4:00 to 6:00pm \nWhere: EvaDean’s Bakery and Cafe\, 1115 Central Ave.\, Wilmette \nWhat: New Trier Dems discuss ways to get involved in 2026. For more information or to RSVP: mobilize.us/newtrierdemocraticorganization/event/873646/.
URL:https://idcca.org/event/new-trier-dems-2026-kickoff-party/
LOCATION:EvaDean’s Bakery and Cafe\, 1115 Central Ave.\, Wilmette
CATEGORIES:Fundraiser
END:VEVENT
BEGIN:VEVENT
DTSTART;TZID=America/Chicago:20260110T180000
DTEND;TZID=America/Chicago:20260110T210000
DTSTAMP:20260424T131342
CREATED:20251017T152124Z
LAST-MODIFIED:20251017T152124Z
UID:10012645-1768068000-1768078800@idcca.org
SUMMARY:5th Annual IDCCA Virtual Trivia Night
DESCRIPTION:You are invited to join the \nIllinois Democratic County Chairs’ Association for their \n5th Annual Virtual Trivia Night \nSaturday\, January 10\, 2026 \nHeld via Zoom \nZoom room opens at 5:45pm \nGame starts at 6:00pm \nTeam of 10 – $200 \n\n10 virtual tickets / 1 virtual breakout room.\n\nTable Sponsor – $300 \n\nRecognition at the start of the game with logo and recognition as a sponsor.\n10 virtual tickets / 1 virtual breakout room.\n\nRound Sponsor – $500 \n\nLogo shown during 1 round of the game.\nRecognition at the start of the game and throughout 1 round of the game.\n10 virtual tickets / 1 virtual breakout room.\n\nTrivia Night Sponsor – $1\,000 \n\nOpportunity to record 1 round of questions to be used during the game.\nLogo shown at the start of and throughout the game.\nRecognition at the start of and throughout the game.\n10 virtual tickets / 1 virtual breakout room.\n\nIndividual – $20 \n\n1 virtual ticket.\n\nFor more information or to RSVP\, contact dan@ildcca.org or https://secure.actblue.com/donate/2026trivianight.
URL:https://idcca.org/event/5th-annual-idcca-virtual-trivia-night/
LOCATION:Online\, IL\, United States
CATEGORIES:Fundraiser
END:VEVENT
BEGIN:VEVENT
DTSTART;TZID=America/Chicago:20260110T100000
DTEND;TZID=America/Chicago:20260110T120000
DTSTAMP:20260424T131342
CREATED:20260107T192252Z
LAST-MODIFIED:20260107T192252Z
UID:10012702-1768039200-1768046400@idcca.org
SUMMARY:Eat Breakfast with Greater Palatine Area Democrats
DESCRIPTION:RSVP online at https://www.gpadems.org/gpad_monthly_meeting_20260110
URL:https://idcca.org/event/eat-breakfast-with-greater-palatine-area-democrats/
LOCATION:Annie’s Restaurant\, 154 W Northwest Hwy\, Palatine\, IL\, United States
CATEGORIES:Fundraiser
END:VEVENT
BEGIN:VEVENT
DTSTART;TZID=America/Chicago:20260108T170000
DTEND;TZID=America/Chicago:20260108T200000
DTSTAMP:20260424T131342
CREATED:20260105T182558Z
LAST-MODIFIED:20260105T182558Z
UID:10012699-1767891600-1767902400@idcca.org
SUMMARY:Mid-Winter Warm Up with Karen Battaglia for Illinois State Senate
DESCRIPTION:Thursday\, January 8th\, 5:00-8:00 pm \nMid-Winter Warm Up with Karen Battaglia for Illinois State Senate \nEmerson & Oliver\, 140 Cass St\, Lower level\, Woodstock\, IL 60098 \nIndividual Tickets: $25 (All individual tickets include 1 drink ticket) \nSponsorships: $2\,500 | $1\,000 | $500 | $250 \nPlease make checks payable to Friends For Karen Battaglia\, PO Box 308\, Antioch\, IL 60002 \nRSVP: Caleb@ilsenatedems.org \nFlyer
URL:https://idcca.org/event/mid-winter-warm-up-with-karen-battaglia-for-illinois-state-senate/
LOCATION:Emerson & Oliver\, 140 Cass St\, Woodstock\, IL\, United States
CATEGORIES:Fundraiser
END:VEVENT
BEGIN:VEVENT
DTSTART;TZID=America/Chicago:20260107T190000
DTEND;TZID=America/Chicago:20260107T210000
DTSTAMP:20260424T131342
CREATED:20251218T201850Z
LAST-MODIFIED:20251218T201850Z
UID:10012697-1767812400-1767819600@idcca.org
SUMMARY:McLean County Democrats Night Out with the Bloomington Bison
DESCRIPTION:You are invited to join the \nMcLean County Democratic Party \nfor a Democrats Night out with the Bloomington Bison \nWednesday\, January 7\, 2026 \n7pm – 9:00pm \nGrossinger Motors Arena\n101 S Madison St\, Bloomington\, IL 61701 \nSuite Ticket – $150 – RSVP at info@mcleancountydemocrats.org\nGeneral Admission – $22 – www.gofevo.com/event/McleanCoDem26
URL:https://idcca.org/event/mclean-county-democrats-night-out-with-the-bloomington-bison/
LOCATION:Grossinger Motors Arena\, 101 S Madison St\, Bloomington\, IL\, 61701\, United States
CATEGORIES:Fundraiser
END:VEVENT
BEGIN:VEVENT
DTSTART;TZID=America/Chicago:20251221T080000
DTEND;TZID=America/Chicago:20251221T110000
DTSTAMP:20260424T131342
CREATED:20251212T203752Z
LAST-MODIFIED:20251212T203752Z
UID:10012692-1766304000-1766314800@idcca.org
SUMMARY:Breakfast with Santa with the Boone County Democrats
DESCRIPTION:You are invited to join the\n\nBoone County Democratic Party\n\nfor Breakfast with Santa\n\nSunday\, December 21\, 2025\n\n8:00am – 11:00am\n\nVFW Post 1461\n1310 W Lincoln Ave\, Belvidere\n\nRSVP online at ilboonedems@gmail.com.
URL:https://idcca.org/event/breakfast-with-santa-with-the-boone-county-democrats/
LOCATION:VFW Post 1461\, 1310 W Lincoln Ave\, Belvidere\, IL\, United States
CATEGORIES:Fundraiser
END:VEVENT
BEGIN:VEVENT
DTSTART;TZID=America/Chicago:20251219T170000
DTEND;TZID=America/Chicago:20251219T190000
DTSTAMP:20260424T131342
CREATED:20251112T184107Z
LAST-MODIFIED:20251112T184107Z
UID:10012657-1766163600-1766170800@idcca.org
SUMMARY:Rock Island County Democrats' Holiday Party
DESCRIPTION:Friday\, December 19\n5:00 – 7:00 PM\nRock Island County Democrats’ Holiday Party\nNEW VENUE: Old Oaks Winery\, 10814 1st St W\, Milan\nThis is a FREE event to celebrate the hard work we have all put in throughout the year\, enjoy each other’s company\, and have some fun. There will not be a formal speaking program.\nCLICK HERE for a link to the Facebook event page
URL:https://idcca.org/event/rock-island-county-democrats-holiday-party-2/
LOCATION:Old Oaks Winery\, 10814 1st Street West\, Milan\, IL\, 61264\, United States
CATEGORIES:Fundraiser
END:VEVENT
BEGIN:VEVENT
DTSTART;TZID=America/Chicago:20251218T180000
DTEND;TZID=America/Chicago:20251218T210000
DTSTAMP:20260424T131342
CREATED:20251202T213311Z
LAST-MODIFIED:20251202T213311Z
UID:10012684-1766080800-1766091600@idcca.org
SUMMARY:Senator Doris Turner Trivia Night
DESCRIPTION:RSVP online at https://secure.actblue.com/donate/ttrivia25
URL:https://idcca.org/event/senator-doris-turner-trivia-night-2/
LOCATION:Plumbers & Steamfitters Local 137\, 2880 E. Cook St.\, Springfield\, IL\, 62703\, United States
CATEGORIES:Fundraiser
GEO:39.7943363;-89.6098235
X-APPLE-STRUCTURED-LOCATION;VALUE=URI;X-ADDRESS=Plumbers & Steamfitters Local 137 2880 E. Cook St. Springfield IL 62703 United States;X-APPLE-RADIUS=500;X-TITLE=2880 E. Cook St.:geo:-89.6098235,39.7943363
END:VEVENT
BEGIN:VEVENT
DTSTART;TZID=America/Chicago:20251218T173000
DTEND;TZID=America/Chicago:20251218T193000
DTSTAMP:20260424T131342
CREATED:20251121T170525Z
LAST-MODIFIED:20251121T170525Z
UID:10012672-1766079000-1766086200@idcca.org
SUMMARY:State Rep. Kim Neely du Buclet's 3rd Annual Ugly Christmas Sweater Fundraiser
DESCRIPTION:State Rep. Kim Neely du Buclet’s 3rd Annual Ugly Christmas Sweater Fundraiser \nThursday\, December 18 | 5:30 – 7:30 PM \nHubbard Inn \n110 W Hubbard St. Chicago IL 60654 \nSupport Levels: $50 | $100 | $250 | $500 | $1000
URL:https://idcca.org/event/state-rep-kim-neely-du-buclets-3rd-annual-ugly-christmas-sweater-fundraiser/
LOCATION:Hubbard Inn\, 110 W. Hubbard Street \, Chicago\, IL\, 60654\, United States
CATEGORIES:Fundraiser
GEO:41.8902571;-87.6316052
X-APPLE-STRUCTURED-LOCATION;VALUE=URI;X-ADDRESS=Hubbard Inn 110 W. Hubbard Street  Chicago IL 60654 United States;X-APPLE-RADIUS=500;X-TITLE=110 W. Hubbard Street:geo:-87.6316052,41.8902571
END:VEVENT
BEGIN:VEVENT
DTSTART;TZID=America/Chicago:20251217T180000
DTEND;TZID=America/Chicago:20251217T200000
DTSTAMP:20260424T131342
CREATED:20251204T210427Z
LAST-MODIFIED:20251204T210427Z
UID:10012689-1765994400-1766001600@idcca.org
SUMMARY:Kelly-Oke: Resistance Edition
DESCRIPTION:
URL:https://idcca.org/event/kelly-oke-resistance-edition/
LOCATION:R Public House\, 1508 W. Jarvis\, Chicago\, IL\, 60626\, United States
CATEGORIES:Fundraiser
GEO:42.0162932;-87.6685861
X-APPLE-STRUCTURED-LOCATION;VALUE=URI;X-ADDRESS=R Public House 1508 W. Jarvis Chicago IL 60626 United States;X-APPLE-RADIUS=500;X-TITLE=1508 W. Jarvis:geo:-87.6685861,42.0162932
END:VEVENT
BEGIN:VEVENT
DTSTART;TZID=America/Chicago:20251217T173000
DTEND;TZID=America/Chicago:20251217T200000
DTSTAMP:20260424T131342
CREATED:20251202T212659Z
LAST-MODIFIED:20251202T212659Z
UID:10012681-1765992600-1766001600@idcca.org
SUMMARY:Holiday Party with Senators Martwick\, Aquino\, Guzman\, & Villivalam
DESCRIPTION:Wednesday\, December 17th\, 5:30-8:00 pm \nHoliday Party with Senators Martwick\, Aquino\, Guzman\, & Villivalam \nErie Cafe\, 536 West Erie Street\, Chicago\, IL 60654 \nIndividual Ticket: $150 \nSponsorships: Champion $10\,000 | Chair $5\,000 | Host $2\,000 | Sponsor $1\,000 | Supporter $500 | Friend $250 \nPlease make checks payable to the committee(s) of your choice: \nFriends of Robert Martwick\, c/o ISDF\, 6939 W. North Ave.\, Oak Park\, IL 60302 \nFriends of Omar Aquino\, 1000 N. Rockwell Street\, Chicago\, IL 60622 \nGente for Guzman\, 2637 N Kimball Ave\, Unit 2\, Chicago\, IL 60647 \nFriends of Ram\, PO Box 598085\, Chicago\, IL 60659-8085 \nRSVPs to Caleb@ilsenatedems.org or Carly@ilsenatedems.org \nFlyer
URL:https://idcca.org/event/holiday-party-with-senators-martwick-aquino-guzman-villivalam/
LOCATION:Erie Cafe\, 536 W. Erie\, Chicago\, IL\, 60654\, United States
CATEGORIES:Fundraiser
GEO:41.8942735;-87.6427118
X-APPLE-STRUCTURED-LOCATION;VALUE=URI;X-ADDRESS=Erie Cafe 536 W. Erie Chicago IL 60654 United States;X-APPLE-RADIUS=500;X-TITLE=536 W. Erie:geo:-87.6427118,41.8942735
END:VEVENT
BEGIN:VEVENT
DTSTART;TZID=America/Chicago:20251215T173000
DTEND;TZID=America/Chicago:20251215T193000
DTSTAMP:20260424T131342
CREATED:20251113T165644Z
LAST-MODIFIED:20251113T193437Z
UID:10012659-1765819800-1765827000@idcca.org
SUMMARY:Macon County Democrats Holiday Party
DESCRIPTION:You are invited to join the \nMacon County Democratic Party \nfor their Holiday Party \nMonday\, December 15\, 2025 \n5:30pm – 7:30pm \nDel Carmen’s Pizza East\n2034 S Mt. Zion Rd.\, Decatur \nRSVP to maconcountydemchair1@gmail.com
URL:https://idcca.org/event/macon-county-democrats-holiday-party/
LOCATION:Del Carmen’s Pizza East\, 2034 S Mt. Zion Rd.\, Decatur\, IL\, United States
CATEGORIES:Fundraiser
END:VEVENT
BEGIN:VEVENT
DTSTART;TZID=America/Chicago:20251212T180000
DTEND;TZID=America/Chicago:20251212T210000
DTSTAMP:20260424T131342
CREATED:20250903T165744Z
LAST-MODIFIED:20250903T165744Z
UID:10012591-1765562400-1765573200@idcca.org
SUMMARY:DuPage Dems 2025 Holiday Party
DESCRIPTION:RSVP online at https://secure.actblue.com/donate/dpdc_holiday2025
URL:https://idcca.org/event/dupage-dems-2025-holiday-party/
LOCATION:Abbington Distinctive Banquets\, 3S2 IL Route 53\, Glen Ellyn\, IL\, 60137\, United States
CATEGORIES:Fundraiser
END:VEVENT
BEGIN:VEVENT
DTSTART;TZID=America/Chicago:20251212T150000
DTEND;TZID=America/Chicago:20251212T170000
DTSTAMP:20260424T131342
CREATED:20251202T212215Z
LAST-MODIFIED:20251202T212215Z
UID:10012679-1765551600-1765558800@idcca.org
SUMMARY:Senator Celina Villanueva & Rep. Avelar's Holiday Tea
DESCRIPTION:Friday\, December 12th\, 3:00-5:00 pm  \nSenator Celina Villanueva & Rep. Avelar’s Holiday Tea \nThe Palm Court: Drake Chicago\, 140 E Walton Place Chicago\, IL 60611 \nIndividual Ticket: $250\, purchase onActBlue \nSponsorships: $10\,000 | $5\,000 | $1\,000 | $500 \nPlease make checks payable to the committee(s) of your choice: \nFriends for Celina Villanueva\, 4140 S. Archer Ave\, Suite N\, Chicago\, IL 60632 \nCommunity For Dee\, P.O. Box 1571\, Bolingbrook\, IL 60440 \nRSVP:Jillian@ilsenatedems.org or Joshua@1833group.com \nFlyer
URL:https://idcca.org/event/senator-celina-villanueva-rep-avelars-holiday-tea/
LOCATION:The Drake\, 140 E Walton Pl.\, Chicago\, 60611\, United States
CATEGORIES:Fundraiser
END:VEVENT
END:VCALENDAR