BEGIN:VCALENDAR
VERSION:2.0
PRODID:-//IDCCA - ECPv6.15.20//NONSGML v1.0//EN
CALSCALE:GREGORIAN
METHOD:PUBLISH
X-ORIGINAL-URL:https://idcca.org
X-WR-CALDESC:Events for IDCCA
REFRESH-INTERVAL;VALUE=DURATION:PT1H
X-Robots-Tag:noindex
X-PUBLISHED-TTL:PT1H
BEGIN:VTIMEZONE
TZID:America/Chicago
BEGIN:DAYLIGHT
TZOFFSETFROM:-0600
TZOFFSETTO:-0500
TZNAME:CDT
DTSTART:20250309T080000
END:DAYLIGHT
BEGIN:STANDARD
TZOFFSETFROM:-0500
TZOFFSETTO:-0600
TZNAME:CST
DTSTART:20251102T070000
END:STANDARD
BEGIN:DAYLIGHT
TZOFFSETFROM:-0600
TZOFFSETTO:-0500
TZNAME:CDT
DTSTART:20260308T080000
END:DAYLIGHT
BEGIN:STANDARD
TZOFFSETFROM:-0500
TZOFFSETTO:-0600
TZNAME:CST
DTSTART:20261101T070000
END:STANDARD
BEGIN:DAYLIGHT
TZOFFSETFROM:-0600
TZOFFSETTO:-0500
TZNAME:CDT
DTSTART:20270314T080000
END:DAYLIGHT
BEGIN:STANDARD
TZOFFSETFROM:-0500
TZOFFSETTO:-0600
TZNAME:CST
DTSTART:20271107T070000
END:STANDARD
END:VTIMEZONE
BEGIN:VEVENT
DTSTART;TZID=America/Chicago:20260709T170000
DTEND;TZID=America/Chicago:20260709T190000
DTSTAMP:20260423T001232
CREATED:20260421T161500Z
LAST-MODIFIED:20260421T161500Z
UID:10012774-1783616400-1783623600@idcca.org
SUMMARY:Senator Meg Loughran Cappel\, Leader Dee Avelar\, & Rep. Natalie Manley Friend's of Labor Joint Fundraiser
DESCRIPTION:Thursday\, July 9th\, 5:00-7:00 pm \nSenator Meg Loughran Cappel\, Leader Dee Avelar\, & Rep. Natalie Manley Friend’s of Labor Joint Fundraiser  \nPlumber Local 130\, 2114 Frontage Road\, Joliet\, IL 60436 \nIndividual Ticket: $100 \nSponsorships: $5\,000 | $2\,500 | $1\,000 | $500 $250 \nPlease make checks payable to the committee(s) of your choice: \n– Committee to Elect Meg Loughran Cappel\, 529 Northgate Lane\, Shorewood\, IL 60404 \n– Community for Dee\, P.O. Box 1571\, Bolingbrook\, IL 60440 \n– Friends of Natalie Manley\, 1927 Timbers Edge Circle\, Joliet\, IL 60431 \nRSVP:Timothy@ilsenatedems.org \nFlyer
URL:https://idcca.org/event/senator-meg-loughran-cappel-leader-dee-avelar-rep-natalie-manley-friends-of-labor-joint-fundraiser/
LOCATION:Plumbers Local 130 – Joliet\, 2114 I-80 S Frontage Rd\, Joliet\, IL\, 60436\, United States
CATEGORIES:Fundraiser
END:VEVENT
BEGIN:VEVENT
DTSTART;TZID=America/Chicago:20260728T090000
DTEND;TZID=America/Chicago:20260728T170000
DTSTAMP:20260423T001232
CREATED:20260421T161559Z
LAST-MODIFIED:20260421T161559Z
UID:10012775-1785229200-1785258000@idcca.org
SUMMARY:Senator Laura Ellman's Golf Outing
DESCRIPTION:Tuesday\, July 28th \nSenator Laura Ellman’s Golf Outing \n9:00 am Shotgun Start \nSeven Bridges Golf Club\, 1 Mulligan Dr\, Woodridge\, IL 60517 \nIndividual Golfer: $300 | Foursome: $1\,200 \nSponsorships: $5\,000 | $2\,500 | $1\,000 | $500 \nPlease make checks payable to Ellman for IL D21\, PO Box 4527\, Naperville\, IL 60567 \nRSVP: Timothy@ilsenatedems.org \nFlyer
URL:https://idcca.org/event/senator-laura-ellmans-golf-outing/
LOCATION:Seven Bridges Golf Club\, 1 Mulligan Dr.\, Woodridge\, IL\, 60517\, United States
CATEGORIES:Fundraiser
END:VEVENT
BEGIN:VEVENT
DTSTART;TZID=America/Chicago:20260810T063000
DTEND;TZID=America/Chicago:20260810T170000
DTSTAMP:20260423T001232
CREATED:20260421T161656Z
LAST-MODIFIED:20260421T161656Z
UID:10012776-1786343400-1786381200@idcca.org
SUMMARY:Senator Dave Koehler Annual Golf Outing
DESCRIPTION:Monday\, August 10th\nSenator Dave Koehler Annual Golf Outing \nMorning Session: Check In 6:30 am | Start Time 7:30 am\nAfternoon Session: Check in 11:30 am | Start Time 12:30 pm \nMetamora Fields Golf Club\, 801 W. Progress St\, Metamora\, IL 61548 \nFoursome: $1\,200 | Individual Golfer: $300\nSponsorships: Event $10\,000 | Gold $5\,000 | Silver $2\,500 | Hole $300\nPlease make checks payable to Friends of Dave Koehler\, 1020 NE Glen Oak Ave\, 61603\nRSVP: Carly@ilsenatedems.org \nFlyer
URL:https://idcca.org/event/senator-dave-koehler-annual-golf-outing-4/
LOCATION:Metamora Fields Golf Club\, 801 W. Progress St\, Metamora\, IL\, United States
CATEGORIES:Fundraiser
END:VEVENT
BEGIN:VEVENT
DTSTART;TZID=America/Chicago:20260819T090000
DTEND;TZID=America/Chicago:20260819T120000
DTSTAMP:20260423T001232
CREATED:20260417T200224Z
LAST-MODIFIED:20260417T200224Z
UID:10012766-1787130000-1787140800@idcca.org
SUMMARY:IDCCA Annual County Chairs' Brunch
DESCRIPTION:The Illinois Democratic County Chairs’ Association \n2026 County Chairs’ Brunch \nwith special guest\nTBA \n\n\nWednesday\, Aug. 19\, 2026\n9:00am \nBank of Springfield Center\nSpringfield\, IL \nFor more information or to RSVP\, please visit https://idccabrunch.org/ \n\n 
URL:https://idcca.org/event/idcca-annual-county-chairs-brunch/
LOCATION:Bank of Springfield Center\, 1 Convention Center Plaza\, Springfield\, IL\, 62701\, United States
CATEGORIES:Fundraiser
END:VEVENT
BEGIN:VEVENT
DTSTART;TZID=America/Chicago:20260826T173000
DTEND;TZID=America/Chicago:20260826T213000
DTSTAMP:20260423T001232
CREATED:20260421T161810Z
LAST-MODIFIED:20260421T161810Z
UID:10012777-1787765400-1787779800@idcca.org
SUMMARY:Leaders Laura Murphy and Cristina Castro Annual Night at the Ballpark
DESCRIPTION:Wednesday\, August 26th\nLeaders Laura Murphy and Cristina Castro Annual Night at the Ballpark\nSchaumburg Boomers vs. Evansville Otters\nSuite opens: 5:30 pm | First Pitch: 6:30 pm\nWintrust Field\, 1999 S. Springinsguth Rd.\, Schaumburg\, IL 60193\nIndividual ticket: $60 | Four pack of tickets: $200\nSponsorships: $5\,000 | $2\,500 | $1\,000 | $500 | $250 \nPlease make checks payable to committee(s) of your choice: \n– Citizens for Castro\, P.O. Box 1506\, Elgin\, IL 60121 \n– Citizens for Laura Murphy\, P.O. Box 13\, Des Plaines\, IL 60016\nRSVP Required: Sarah@ilsenatedems.org or Carly@ilsenatedems.org \nFlyer
URL:https://idcca.org/event/leaders-laura-murphy-and-cristina-castro-annual-night-at-the-ballpark-3/
LOCATION:Wintrust Field\, 1999 S. Springinsguth Rd.\, Schaumburg\, IL\, 60193\, United States
CATEGORIES:Fundraiser
END:VEVENT
BEGIN:VEVENT
DTSTART;TZID=America/Chicago:20260831T090000
DTEND;TZID=America/Chicago:20260831T170000
DTSTAMP:20260423T001232
CREATED:20260421T161901Z
LAST-MODIFIED:20260421T161901Z
UID:10012778-1788166800-1788195600@idcca.org
SUMMARY:Senator Omar Aquino Annual Golf Outing
DESCRIPTION:Monday\, August 31st\nSenator Omar Aquino Annual Golf Outing \nRegistration: 9:00 am | Shotgun start: 10:00 am \nRavisloe Country Club\, 18231 Park Ave\, Homewood\, IL 60430 \nFoursome: $1\,000 | Foursome with Hole Sign: $1\,250 | Individual Golfer: $250 \nSponsorships: Championship Cup: $50\,000\, 5 foursomes\, 3 hole signs & banner recognition | Tournament: $20\,000\, 3 foursomes\, 2 hole signs & banner recognition | Hole-in-One: $10\,000\, 2 foursomes\, 2 hole signs & banner recognition | Eagle: $5\,000\, 2 foursomes\, 1 hole sign & banner recognition | Birdie: $2\,500\, 1 foursome\, 1 hole sign & banner recognition | Par: $1\,000\, Hole sign & banner recognition | Hole Sign: $500 \nPlease make checks payable to\, Friends of Omar Aquino\, 1000 N. Rockwell Street\, Chicago\, IL 60622 \nRSVP required: Carly@ilsenatedems.org \nFlyer \n 
URL:https://idcca.org/event/senator-omar-aquino-annual-golf-outing-5/
LOCATION:Ravisloe Country Club\, 18231 Park Ave\, Homewood\, IL\, United States
CATEGORIES:Fundraiser
END:VEVENT
BEGIN:VEVENT
DTSTART;TZID=America/Chicago:20260903T183000
DTEND;TZID=America/Chicago:20260903T213000
DTSTAMP:20260423T001232
CREATED:20260128T160756Z
LAST-MODIFIED:20260128T160756Z
UID:10012716-1788460200-1788471000@idcca.org
SUMMARY:Speaker Welch's Fall Fundraiser
DESCRIPTION:Speaker Welch’s Fall Fundraiser \nThursday\, September 3 | 6:30 – 9:30 PM \nAdler Planetarium \n1300 S. DuSable Lake Shore Dr. Chicago\, IL 60605 \nTickets: Guest – $250 \n  \nSponsorships: Bronze – $1\,000 | Silver – $3\,000 | Gold – $6\,000 | Platinum – $12\,000 | Diamond – $20\,000
URL:https://idcca.org/event/speaker-welchs-fall-fundraiser/
LOCATION:Adler Planetarium\, 1300 S DuSable Lake Shore Dr\, Chicago\, IL\, 60605\, United States
CATEGORIES:Fundraiser
END:VEVENT
END:VCALENDAR