BEGIN:VCALENDAR
VERSION:2.0
PRODID:-//IDCCA - ECPv6.15.20//NONSGML v1.0//EN
CALSCALE:GREGORIAN
METHOD:PUBLISH
X-ORIGINAL-URL:https://idcca.org
X-WR-CALDESC:Events for IDCCA
REFRESH-INTERVAL;VALUE=DURATION:PT1H
X-Robots-Tag:noindex
X-PUBLISHED-TTL:PT1H
BEGIN:VTIMEZONE
TZID:America/Chicago
BEGIN:DAYLIGHT
TZOFFSETFROM:-0600
TZOFFSETTO:-0500
TZNAME:CDT
DTSTART:20250309T080000
END:DAYLIGHT
BEGIN:STANDARD
TZOFFSETFROM:-0500
TZOFFSETTO:-0600
TZNAME:CST
DTSTART:20251102T070000
END:STANDARD
BEGIN:DAYLIGHT
TZOFFSETFROM:-0600
TZOFFSETTO:-0500
TZNAME:CDT
DTSTART:20260308T080000
END:DAYLIGHT
BEGIN:STANDARD
TZOFFSETFROM:-0500
TZOFFSETTO:-0600
TZNAME:CST
DTSTART:20261101T070000
END:STANDARD
BEGIN:DAYLIGHT
TZOFFSETFROM:-0600
TZOFFSETTO:-0500
TZNAME:CDT
DTSTART:20270314T080000
END:DAYLIGHT
BEGIN:STANDARD
TZOFFSETFROM:-0500
TZOFFSETTO:-0600
TZNAME:CST
DTSTART:20271107T070000
END:STANDARD
END:VTIMEZONE
BEGIN:VEVENT
DTSTART;TZID=America/Chicago:20260607T123000
DTEND;TZID=America/Chicago:20260607T143000
DTSTAMP:20260422T034431
CREATED:20260323T173900Z
LAST-MODIFIED:20260323T173900Z
UID:10012749-1780835400-1780842600@idcca.org
SUMMARY:13th Annual JFK Dinner
DESCRIPTION:You are invited to join the \nBureau County Democratic Party\, Carroll County Democratic Party\, Lee County Democratic Party\, Ogle County Democratic Party\, Rock Island County Democratic Party\, and Whiteside County Democratic Party \nfor the 13th Annual JFK Dinner \nHosted by the JFK Dinner PAC \nSunday\, June 7\, 2026 \nDeer Valley Country Club\n3298 Hoover Rd\, Deer Creek \n12:30pm – 2:30pm \nRSVP online at whitesidecodems@yahoo.com
URL:https://idcca.org/event/13th-annual-jfk-dinner/
LOCATION:Deer Valley Country Club\, 3298 Hoover Rd\, Deer Grove\, IL\, 61243\, United States
GEO:41.6323318;-89.6893653
X-APPLE-STRUCTURED-LOCATION;VALUE=URI;X-ADDRESS=Deer Valley Country Club 3298 Hoover Rd Deer Grove IL 61243 United States;X-APPLE-RADIUS=500;X-TITLE=3298 Hoover Rd:geo:-89.6893653,41.6323318
END:VEVENT
BEGIN:VEVENT
DTSTART;TZID=America/Chicago:20260610T170000
DTEND;TZID=America/Chicago:20260610T210000
DTSTAMP:20260422T034431
CREATED:20260421T161001Z
LAST-MODIFIED:20260421T161001Z
UID:10012770-1781110800-1781125200@idcca.org
SUMMARY:Senator Karina Villa White Sox Suite
DESCRIPTION:Wednesday\, June 10th\nSenator Karina Villa White Sox Suite \nChicago White Sox vs. Atlanta Braves\nSuite opens: 5:10 pm | Game Starts: 6:40 pm\nRate Field\, 333 W. 35th St\, Chicago\, IL\nTicket: $1\,000\nPlease make checks payable to Citizens for Karina Villa\, PO Box 457\, West Chicago\, IL 60186 \nTickets are limited. RSVP required: Sarah@ilsenatedems.org \nFlyer
URL:https://idcca.org/event/senator-karina-villa-white-sox-suite/
LOCATION:Guaranteed Rate Field\, 333 W. 35th St.\, Chicago\, IL\, 60616\, United States
CATEGORIES:Fundraiser
GEO:41.8300088;-87.6337735
X-APPLE-STRUCTURED-LOCATION;VALUE=URI;X-ADDRESS=Guaranteed Rate Field 333 W. 35th St. Chicago IL 60616 United States;X-APPLE-RADIUS=500;X-TITLE=333 W. 35th St.:geo:-87.6337735,41.8300088
END:VEVENT
BEGIN:VEVENT
DTSTART;TZID=America/Chicago:20260611T173000
DTEND;TZID=America/Chicago:20260611T213000
DTSTAMP:20260422T034431
CREATED:20260211T183834Z
LAST-MODIFIED:20260211T183834Z
UID:10012726-1781199000-1781213400@idcca.org
SUMMARY:Leaders Linda Holmes & Cristina Castro Annual Night at the Ballpark
DESCRIPTION:Thursday\, June 11th \nLeaders Linda Holmes & Cristina Castro Annual Night at the Ballpark\nKane County Cougars vs. Lake County Dockhounds\nSuite Opens: 5:30 pm | First Pitch: 6:30 pm \nKane County Cougars\, 34w002 Cherry Ln\, Geneva\, IL 60134\nIndividual ticket: $60 | Four pack of tickets: $200\nSponsorships: $5\,000 | $2\,500 | $1\,000 | $500 | $250 \nPlease make checks payable to committee(s) of your choice: \n– Citizens for Castro\, P.O. Box 1506\, Elgin\, IL 60121 \n– Citizens for Linda Holmes\, P.O. Box 6374\, Aurora\, IL 60598 \nRSVP required: Carly@ilsenatedems.org or Sarah@ilsenatedems.org \nFlyer
URL:https://idcca.org/event/leaders-linda-holmes-cristina-castro-annual-night-at-the-ballpark/
LOCATION:Kane County Cougars\, 34w002 Cherry Ln\, Geneva\, IL\, United States
CATEGORIES:Fundraiser
END:VEVENT
BEGIN:VEVENT
DTSTART;TZID=America/Chicago:20260612T190000
DTEND;TZID=America/Chicago:20260612T210000
DTSTAMP:20260422T034431
CREATED:20260128T160544Z
LAST-MODIFIED:20260128T160544Z
UID:10012715-1781290800-1781298000@idcca.org
SUMMARY:Equality & Pride 365
DESCRIPTION:Equality & Pride 365 \nFriday\, June 12 | 7 – 9 PM \nI.O Godfrey Rooftop \n127 W. Huron St. Chicago\, IL 60654 \nTickets: Guest – $250 | Equality & Pride Ambassador – $365 \n  \nSponsorships: Bronze – $1\,000 | Silver – $3\,000 | Gold – $6\,000 | Platinum – $12\,000 | Diamond – $20\,000
URL:https://idcca.org/event/equality-pride-365/
LOCATION:I.O. Godfrey Rooftop\, 127 W Huron St\, Chicago\, IL\, 60654\, United States
CATEGORIES:Fundraiser
END:VEVENT
BEGIN:VEVENT
DTSTART;TZID=America/Chicago:20260616T170000
DTEND;TZID=America/Chicago:20260616T190000
DTSTAMP:20260422T034432
CREATED:20260324T145049Z
LAST-MODIFIED:20260324T145049Z
UID:10012750-1781629200-1781636400@idcca.org
SUMMARY:Senator Paul Faraci Summer Fundraiser
DESCRIPTION:Tuesday\, June 16th\, 5:00-7:00 pm\nSenator Paul Faraci Summer Fundraiser \nFarren’s at The Inman\, 17 E University Ave #101\, Champaign\, IL 61820\nIndividual: $30 | Pair: $50\, purchase on ActBlue\nSponsorships: $2\,500 | $1\,000 | $500 | $250 | $100\nPlease make checks payable to Faraci for Senate\, 1004 Barclay Ct.\, Champaign\, IL 61821 \nRSVP: Sarah@ilsenatedems.org \nFlyer
URL:https://idcca.org/event/senator-paul-faraci-summer-fundraiser-2/
LOCATION:Farren’s at The Inman\, 17 E University Ave #101\, Champaign\, IL\, United States
CATEGORIES:Fundraiser
END:VEVENT
BEGIN:VEVENT
DTSTART;TZID=America/Chicago:20260617T180000
DTEND;TZID=America/Chicago:20260617T210000
DTSTAMP:20260422T034432
CREATED:20260421T161056Z
LAST-MODIFIED:20260421T161056Z
UID:10012771-1781719200-1781730000@idcca.org
SUMMARY:Senator Lakesia Collins Rooftop Party
DESCRIPTION:Wednesday\, June 17th\, 6:00-9:00 pm\nSenator Lakesia Collins Rooftop Party \nAzul\, 1177 N Elston Ave\, Chicago\, IL 60642\nIndividual Ticket: $150\, purchase on ActBlue\nSponsorship: $5\,000 | $2\,500 | $1\,000 | $500 | $250\nPlease make checks payable to Friends of Lakesia\, P.O. Box 10116\, Chicago\, IL 60610 \nRSVP: Sarah@ilsenatedems.org \nFlyer
URL:https://idcca.org/event/senator-lakesia-collins-rooftop-party/
LOCATION:Azul\, 1177 N. Elston Ave.\, Chicago\, IL\, 60642\, United States
CATEGORIES:Fundraiser
END:VEVENT
BEGIN:VEVENT
DTSTART;TZID=America/Chicago:20260623T080000
DTEND;TZID=America/Chicago:20260625T170000
DTSTAMP:20260422T034432
CREATED:20260313T153132Z
LAST-MODIFIED:20260313T153132Z
UID:10012744-1782201600-1782406800@idcca.org
SUMMARY:Senator Ram Villivalam's 5th Annual Golf & Spa Outing
DESCRIPTION:Tuesday\, June 23rd – Thursday\, June 25th \nSenator Ram Villivalam’s 5th Annual Golf & Spa Outing \nEagle Ridge Resort & Spa\, 444 Eagle Ridge Dr\, Galena\, IL 61036 \nIndividual Ticket: Par – $5\,000\, 1 Guest\, 1 Night of Lodging\, 1 Activity | Stroke – $2\,500\, 1 Guest\, 1 Night of Lodging\, 1 Day of Golf\, purchase on ActBlue \nSponsorships: Hole-In-One – $20\,000 | Eagle – $15\,000 | Birdie – $10\,000 \nPlease make checks payable to Friends of Ram\, P.O. Box 598085\, Chicago\, IL 60659 \nRSVP:Tracy@newchicagollc.com \nFlyer
URL:https://idcca.org/event/senator-ram-villivalams-5th-annual-golf-spa-outing/
LOCATION:Eagle Ridge Resort & Spa\, 444 Eagle Ridge Dr.\, Galena\, IL\, 61036\, United States
CATEGORIES:Fundraiser
END:VEVENT
BEGIN:VEVENT
DTSTART;TZID=America/Chicago:20260624T120000
DTEND;TZID=America/Chicago:20260624T170000
DTSTAMP:20260422T034432
CREATED:20260421T161149Z
LAST-MODIFIED:20260421T161149Z
UID:10012772-1782302400-1782320400@idcca.org
SUMMARY:Senator Patrick Joyce Trap Shoot Outing
DESCRIPTION:Wednesday\, June 24th\, 12:00 pm\nSenator Patrick Joyce Trap Shoot Outing\nSouth Wilmington Sportsmen’s Club\, 42628 County Line Rd.\, Essex\, IL 60935\nIndividual: $500\nSponsorships: $5\,000 | $2\,500 | $1\,000\nPlease make checks payable to Joyce for Senate\, P.O. Box 131\, Essex\, IL 60935\nRSVP required\, Space is limited: Carly@ilsenatedems.org \nFlyer
URL:https://idcca.org/event/senator-patrick-joyce-trap-shoot-outing-4/
LOCATION:South Wilmington Sportsmen’s Club\, 42628 County Line Rd.\, Essex\, IL\, 60935\, United States
CATEGORIES:Fundraiser
END:VEVENT
BEGIN:VEVENT
DTSTART;TZID=America/Chicago:20260625T170000
DTEND;TZID=America/Chicago:20260625T210000
DTSTAMP:20260422T034432
CREATED:20260421T161334Z
LAST-MODIFIED:20260421T161334Z
UID:10012773-1782406800-1782421200@idcca.org
SUMMARY:Senate President Don Harmon & the Illinois Senate Democratic Caucus Summer Reception
DESCRIPTION:Thursday\, June 25th\nSenate President Don Harmon & the Illinois Senate Democratic Caucus Summer Reception \nVIP Reception- 5:00-5:30 pm \nGeneral Reception- 5:30-7:30 pm\nOffshore Rooftop & Bar\, Navy Pier\, 1000 E. Grand Ave.\, Chicago\, IL\nTickets: $250 | Grassroots/Young Professional: $50\nSponsorships: $25\,000* | $15\,000* | $10\,000* | $5\,000 | $2\,500 | $1\,000 | $500\n*Includes access to VIP Reception at 5:00 pm\nPlease make checks payable to ISDF\, 6939 W North Ave.\, Oak Park\, IL 60302\nRegister online: actblue.com/donate/offshore26 \nRSVP: Kelly@ilsenatedems.org
URL:https://idcca.org/event/senate-president-don-harmon-the-illinois-senate-democratic-caucus-summer-reception/
LOCATION:Offshore Rooftop & Bar\, 1000 E. Grand Ave.\, Chicago\, IL\, 60611\, United States
CATEGORIES:Fundraiser
END:VEVENT
BEGIN:VEVENT
DTSTART;TZID=America/Chicago:20260630T170000
DTEND;TZID=America/Chicago:20260630T190000
DTSTAMP:20260422T034432
CREATED:20260324T145829Z
LAST-MODIFIED:20260324T145829Z
UID:10012751-1782838800-1782846000@idcca.org
SUMMARY:Senator Mike Porfirio Summer Fundraiser
DESCRIPTION:Tuesday\, June 30th\, 5:00-7:00 pm\nSenator Mike Porfirio Summer Fundraiser\nIndustry Ales Brewpub\, 230 S Wabash Ave\, Chicago\, IL 60604\nTickets: $100 \nSponsorships: $5\,000 | $2\,500 | $1\,000 | $500 | $250\nPlease make checks payable to Porfirio for the People\, P.O. Box 365\, Summit\, IL 60501\nRSVP: Sarah@ilsenatedems.org \nFlyer
URL:https://idcca.org/event/senator-mike-porfirio-summer-fundraiser-2/
LOCATION:Industry Ales Brewpub\, 230 S Wabash Ave\, Chicago\, IL\, 60604\, United States
CATEGORIES:Fundraiser
END:VEVENT
BEGIN:VEVENT
DTSTART;TZID=America/Chicago:20260707T173000
DTEND;TZID=America/Chicago:20260707T193000
DTSTAMP:20260422T034432
CREATED:20260421T153616Z
LAST-MODIFIED:20260421T153616Z
UID:10012768-1783445400-1783452600@idcca.org
SUMMARY:Reps. Canty and Grasse Fundraiser
DESCRIPTION:Reps. Canty and Grasse Fundraiser \nTuesday\, July 7 | 5:30 – 7:30 PM \nBeatrix \n519 N Clark St. Chicago\, IL 60654 \nTickets: $150 |  $250 | $500 | $1\,000 | $2\,500 \n  \nSend RSVPs to Jillian@ILSenateDems.org
URL:https://idcca.org/event/reps-canty-and-grasse-fundraiser/
LOCATION:Beatrix\, 519 N Clark St\, Chicago\, IL\, United States
CATEGORIES:Fundraiser
END:VEVENT
BEGIN:VEVENT
DTSTART;TZID=America/Chicago:20260709T170000
DTEND;TZID=America/Chicago:20260709T190000
DTSTAMP:20260422T034432
CREATED:20260421T161500Z
LAST-MODIFIED:20260421T161500Z
UID:10012774-1783616400-1783623600@idcca.org
SUMMARY:Senator Meg Loughran Cappel\, Leader Dee Avelar\, & Rep. Natalie Manley Friend's of Labor Joint Fundraiser
DESCRIPTION:Thursday\, July 9th\, 5:00-7:00 pm \nSenator Meg Loughran Cappel\, Leader Dee Avelar\, & Rep. Natalie Manley Friend’s of Labor Joint Fundraiser  \nPlumber Local 130\, 2114 Frontage Road\, Joliet\, IL 60436 \nIndividual Ticket: $100 \nSponsorships: $5\,000 | $2\,500 | $1\,000 | $500 $250 \nPlease make checks payable to the committee(s) of your choice: \n– Committee to Elect Meg Loughran Cappel\, 529 Northgate Lane\, Shorewood\, IL 60404 \n– Community for Dee\, P.O. Box 1571\, Bolingbrook\, IL 60440 \n– Friends of Natalie Manley\, 1927 Timbers Edge Circle\, Joliet\, IL 60431 \nRSVP:Timothy@ilsenatedems.org \nFlyer
URL:https://idcca.org/event/senator-meg-loughran-cappel-leader-dee-avelar-rep-natalie-manley-friends-of-labor-joint-fundraiser/
LOCATION:Plumbers Local 130 – Joliet\, 2114 I-80 S Frontage Rd\, Joliet\, IL\, 60436\, United States
CATEGORIES:Fundraiser
END:VEVENT
BEGIN:VEVENT
DTSTART;TZID=America/Chicago:20260728T090000
DTEND;TZID=America/Chicago:20260728T170000
DTSTAMP:20260422T034432
CREATED:20260421T161559Z
LAST-MODIFIED:20260421T161559Z
UID:10012775-1785229200-1785258000@idcca.org
SUMMARY:Senator Laura Ellman's Golf Outing
DESCRIPTION:Tuesday\, July 28th \nSenator Laura Ellman’s Golf Outing \n9:00 am Shotgun Start \nSeven Bridges Golf Club\, 1 Mulligan Dr\, Woodridge\, IL 60517 \nIndividual Golfer: $300 | Foursome: $1\,200 \nSponsorships: $5\,000 | $2\,500 | $1\,000 | $500 \nPlease make checks payable to Ellman for IL D21\, PO Box 4527\, Naperville\, IL 60567 \nRSVP: Timothy@ilsenatedems.org \nFlyer
URL:https://idcca.org/event/senator-laura-ellmans-golf-outing/
LOCATION:Seven Bridges Golf Club\, 1 Mulligan Dr.\, Woodridge\, IL\, 60517\, United States
CATEGORIES:Fundraiser
END:VEVENT
BEGIN:VEVENT
DTSTART;TZID=America/Chicago:20260810T063000
DTEND;TZID=America/Chicago:20260810T170000
DTSTAMP:20260422T034432
CREATED:20260421T161656Z
LAST-MODIFIED:20260421T161656Z
UID:10012776-1786343400-1786381200@idcca.org
SUMMARY:Senator Dave Koehler Annual Golf Outing
DESCRIPTION:Monday\, August 10th\nSenator Dave Koehler Annual Golf Outing \nMorning Session: Check In 6:30 am | Start Time 7:30 am\nAfternoon Session: Check in 11:30 am | Start Time 12:30 pm \nMetamora Fields Golf Club\, 801 W. Progress St\, Metamora\, IL 61548 \nFoursome: $1\,200 | Individual Golfer: $300\nSponsorships: Event $10\,000 | Gold $5\,000 | Silver $2\,500 | Hole $300\nPlease make checks payable to Friends of Dave Koehler\, 1020 NE Glen Oak Ave\, 61603\nRSVP: Carly@ilsenatedems.org \nFlyer
URL:https://idcca.org/event/senator-dave-koehler-annual-golf-outing-4/
LOCATION:Metamora Fields Golf Club\, 801 W. Progress St\, Metamora\, IL\, United States
CATEGORIES:Fundraiser
END:VEVENT
BEGIN:VEVENT
DTSTART;TZID=America/Chicago:20260819T090000
DTEND;TZID=America/Chicago:20260819T120000
DTSTAMP:20260422T034432
CREATED:20260417T200224Z
LAST-MODIFIED:20260417T200224Z
UID:10012766-1787130000-1787140800@idcca.org
SUMMARY:IDCCA Annual County Chairs' Brunch
DESCRIPTION:The Illinois Democratic County Chairs’ Association \n2026 County Chairs’ Brunch \nwith special guest\nTBA \n\n\nWednesday\, Aug. 19\, 2026\n9:00am \nBank of Springfield Center\nSpringfield\, IL \nFor more information or to RSVP\, please visit https://idccabrunch.org/ \n\n 
URL:https://idcca.org/event/idcca-annual-county-chairs-brunch/
LOCATION:Bank of Springfield Center\, 1 Convention Center Plaza\, Springfield\, IL\, 62701\, United States
CATEGORIES:Fundraiser
END:VEVENT
BEGIN:VEVENT
DTSTART;TZID=America/Chicago:20260826T173000
DTEND;TZID=America/Chicago:20260826T213000
DTSTAMP:20260422T034432
CREATED:20260421T161810Z
LAST-MODIFIED:20260421T161810Z
UID:10012777-1787765400-1787779800@idcca.org
SUMMARY:Leaders Laura Murphy and Cristina Castro Annual Night at the Ballpark
DESCRIPTION:Wednesday\, August 26th\nLeaders Laura Murphy and Cristina Castro Annual Night at the Ballpark\nSchaumburg Boomers vs. Evansville Otters\nSuite opens: 5:30 pm | First Pitch: 6:30 pm\nWintrust Field\, 1999 S. Springinsguth Rd.\, Schaumburg\, IL 60193\nIndividual ticket: $60 | Four pack of tickets: $200\nSponsorships: $5\,000 | $2\,500 | $1\,000 | $500 | $250 \nPlease make checks payable to committee(s) of your choice: \n– Citizens for Castro\, P.O. Box 1506\, Elgin\, IL 60121 \n– Citizens for Laura Murphy\, P.O. Box 13\, Des Plaines\, IL 60016\nRSVP Required: Sarah@ilsenatedems.org or Carly@ilsenatedems.org \nFlyer
URL:https://idcca.org/event/leaders-laura-murphy-and-cristina-castro-annual-night-at-the-ballpark-3/
LOCATION:Wintrust Field\, 1999 S. Springinsguth Rd.\, Schaumburg\, IL\, 60193\, United States
CATEGORIES:Fundraiser
END:VEVENT
BEGIN:VEVENT
DTSTART;TZID=America/Chicago:20260831T090000
DTEND;TZID=America/Chicago:20260831T170000
DTSTAMP:20260422T034432
CREATED:20260421T161901Z
LAST-MODIFIED:20260421T161901Z
UID:10012778-1788166800-1788195600@idcca.org
SUMMARY:Senator Omar Aquino Annual Golf Outing
DESCRIPTION:Monday\, August 31st\nSenator Omar Aquino Annual Golf Outing \nRegistration: 9:00 am | Shotgun start: 10:00 am \nRavisloe Country Club\, 18231 Park Ave\, Homewood\, IL 60430 \nFoursome: $1\,000 | Foursome with Hole Sign: $1\,250 | Individual Golfer: $250 \nSponsorships: Championship Cup: $50\,000\, 5 foursomes\, 3 hole signs & banner recognition | Tournament: $20\,000\, 3 foursomes\, 2 hole signs & banner recognition | Hole-in-One: $10\,000\, 2 foursomes\, 2 hole signs & banner recognition | Eagle: $5\,000\, 2 foursomes\, 1 hole sign & banner recognition | Birdie: $2\,500\, 1 foursome\, 1 hole sign & banner recognition | Par: $1\,000\, Hole sign & banner recognition | Hole Sign: $500 \nPlease make checks payable to\, Friends of Omar Aquino\, 1000 N. Rockwell Street\, Chicago\, IL 60622 \nRSVP required: Carly@ilsenatedems.org \nFlyer \n 
URL:https://idcca.org/event/senator-omar-aquino-annual-golf-outing-5/
LOCATION:Ravisloe Country Club\, 18231 Park Ave\, Homewood\, IL\, United States
CATEGORIES:Fundraiser
END:VEVENT
BEGIN:VEVENT
DTSTART;TZID=America/Chicago:20260903T183000
DTEND;TZID=America/Chicago:20260903T213000
DTSTAMP:20260422T034432
CREATED:20260128T160756Z
LAST-MODIFIED:20260128T160756Z
UID:10012716-1788460200-1788471000@idcca.org
SUMMARY:Speaker Welch's Fall Fundraiser
DESCRIPTION:Speaker Welch’s Fall Fundraiser \nThursday\, September 3 | 6:30 – 9:30 PM \nAdler Planetarium \n1300 S. DuSable Lake Shore Dr. Chicago\, IL 60605 \nTickets: Guest – $250 \n  \nSponsorships: Bronze – $1\,000 | Silver – $3\,000 | Gold – $6\,000 | Platinum – $12\,000 | Diamond – $20\,000
URL:https://idcca.org/event/speaker-welchs-fall-fundraiser/
LOCATION:Adler Planetarium\, 1300 S DuSable Lake Shore Dr\, Chicago\, IL\, 60605\, United States
CATEGORIES:Fundraiser
END:VEVENT
END:VCALENDAR