BEGIN:VCALENDAR
VERSION:2.0
PRODID:-//IDCCA - ECPv6.15.20//NONSGML v1.0//EN
CALSCALE:GREGORIAN
METHOD:PUBLISH
X-ORIGINAL-URL:https://idcca.org
X-WR-CALDESC:Events for IDCCA
REFRESH-INTERVAL;VALUE=DURATION:PT1H
X-Robots-Tag:noindex
X-PUBLISHED-TTL:PT1H
BEGIN:VTIMEZONE
TZID:America/Chicago
BEGIN:DAYLIGHT
TZOFFSETFROM:-0600
TZOFFSETTO:-0500
TZNAME:CDT
DTSTART:20250309T080000
END:DAYLIGHT
BEGIN:STANDARD
TZOFFSETFROM:-0500
TZOFFSETTO:-0600
TZNAME:CST
DTSTART:20251102T070000
END:STANDARD
BEGIN:DAYLIGHT
TZOFFSETFROM:-0600
TZOFFSETTO:-0500
TZNAME:CDT
DTSTART:20260308T080000
END:DAYLIGHT
BEGIN:STANDARD
TZOFFSETFROM:-0500
TZOFFSETTO:-0600
TZNAME:CST
DTSTART:20261101T070000
END:STANDARD
BEGIN:DAYLIGHT
TZOFFSETFROM:-0600
TZOFFSETTO:-0500
TZNAME:CDT
DTSTART:20270314T080000
END:DAYLIGHT
BEGIN:STANDARD
TZOFFSETFROM:-0500
TZOFFSETTO:-0600
TZNAME:CST
DTSTART:20271107T070000
END:STANDARD
END:VTIMEZONE
BEGIN:VEVENT
DTSTART;TZID=America/Chicago:20260508T110000
DTEND;TZID=America/Chicago:20260508T130000
DTSTAMP:20260423T003702
CREATED:20260422T165907Z
LAST-MODIFIED:20260422T165907Z
UID:10012779-1778238000-1778245200@idcca.org
SUMMARY:Congresswoman Underwood's 1st Annual Ultimate Women's Power Brunch
DESCRIPTION:Please join \nCongresswoman Lauren Underwood\, IL-14 \nRed to Blue Co-Chair \nDemocratic Policy and Communications Committee\, Co-Chair \nand our wonderful host committee: \nDavid Adeleye \nFay Clayton \nJulie Coffman \nDarren Collier \nLauren Eiten \nHelene Gayle \nLinda Gilkerson \nMark Ishaug & Micah Krohn \nFrances Johns \nJerry Newton \nLinda Pille  \nCarol Ronen \nMridu Sekhar \nAndrea Solow \nRonna Stamm \nTina Tchen \nAnna Valencia \nKaren Zelden \nIFT/AFT \nInternational Association of Machinists and Aerospace Workers \nInternational Brotherhood of Electrical Workers \nInvest to Elect – Illinois \nMid-America Carpenters Regional Council \nNATCA \nUFCW Local 881 \nUnited Auto Workers (UAW) \nIn Memory of \nMajority Leader Hon. Barbara Flynn Currie \nWith Special Guest: \nCongresswoman Jan Schakowsky \nKeynote Speaker: \nCongresswoman Alexandria Ocasio-Cortez \nFriday\, May 8th \n11:00 AM – 1:00 PM \nChicago\, IL  \nAddress Provided at a Later Date \nTo contribute via check please write “LUVF Event” in the memo line\, and mail it to: \nLauren Underwood Victory Fund \n13400 S Route 59 \nSuite 116 Box 248 \nPlainfield\, IL 60585 \nIf you have any questions\, please reach out to Emma at emma@underwoodforcongress.com.
URL:https://idcca.org/event/congresswoman-underwoods-1st-annual-ultimate-womens-power-brunch/
LOCATION:Chicago\, IL\, Chicago\, IL\, United States
CATEGORIES:Fundraiser
GEO:41.8781136;-87.6297982
END:VEVENT
END:VCALENDAR